BEGIN:VCALENDAR
VERSION:2.0
PRODID:-//Srilankaramaya - ECPv6.3.4//NONSGML v1.0//EN
CALSCALE:GREGORIAN
METHOD:PUBLISH
X-WR-CALNAME:Srilankaramaya
X-ORIGINAL-URL:https://srilankaramaya.org
X-WR-CALDESC:Events for Srilankaramaya
REFRESH-INTERVAL;VALUE=DURATION:PT1H
X-Robots-Tag:noindex
X-PUBLISHED-TTL:PT1H
BEGIN:VTIMEZONE
TZID:Pacific/Auckland
BEGIN:STANDARD
TZOFFSETFROM:+1300
TZOFFSETTO:+1200
TZNAME:NZST
DTSTART:20250405T140000
END:STANDARD
BEGIN:DAYLIGHT
TZOFFSETFROM:+1200
TZOFFSETTO:+1300
TZNAME:NZDT
DTSTART:20250927T140000
END:DAYLIGHT
END:VTIMEZONE
BEGIN:VEVENT
DTSTART;TZID=Pacific/Auckland:20250202T080000
DTEND;TZID=Pacific/Auckland:20250202T170000
DTSTAMP:20260425T231245
CREATED:20250204T044716Z
LAST-MODIFIED:20250204T044716Z
UID:5863-1738483200-1738515600@srilankaramaya.org
SUMMARY:February Meditation Training Program
DESCRIPTION:February Meditation Training Program \nනවම් භාවනා පුහුණු වැඩසටහන
URL:https://srilankaramaya.org/event/february-meditation-training-program/
CATEGORIES:Meditation Events,Regular
ATTACH;FMTTYPE=image/jpeg:https://srilankaramaya.org/wp-content/uploads/2024/10/meditation-vp.jpg
END:VEVENT
BEGIN:VEVENT
DTSTART;TZID=Pacific/Auckland:20250209T080000
DTEND;TZID=Pacific/Auckland:20250209T170000
DTSTAMP:20260425T231245
CREATED:20250204T045003Z
LAST-MODIFIED:20250204T045003Z
UID:5865-1739088000-1739120400@srilankaramaya.org
SUMMARY:February Sil Program
DESCRIPTION:February Sil Program \nනවම් සීල භාවනා වැඩ සටහන
URL:https://srilankaramaya.org/event/february-sil-program-2/
CATEGORIES:Regular,Sil Event
ATTACH;FMTTYPE=image/jpeg:https://srilankaramaya.org/wp-content/uploads/2024/10/monthly-sil-vp.jpg
END:VEVENT
BEGIN:VEVENT
DTSTART;TZID=Pacific/Auckland:20250215T080000
DTEND;TZID=Pacific/Auckland:20250216T163000
DTSTAMP:20260425T231245
CREATED:20250204T045349Z
LAST-MODIFIED:20250204T045349Z
UID:5867-1739606400-1739723400@srilankaramaya.org
SUMMARY:February Monthly Meditation Program
DESCRIPTION:February Monthly Meditation Program\nනවම් මාසික සීල භාවනා වැඩ සටහන
URL:https://srilankaramaya.org/event/february-monthly-meditation-program/
CATEGORIES:Meditation Events,Regular
ATTACH;FMTTYPE=image/jpeg:https://srilankaramaya.org/wp-content/uploads/2024/01/Jinalankara-himi-Meditation-program-gen.jpg
END:VEVENT
BEGIN:VEVENT
DTSTART;TZID=Pacific/Auckland:20250222T080000
DTEND;TZID=Pacific/Auckland:20250222T170000
DTSTAMP:20260425T231245
CREATED:20250204T050125Z
LAST-MODIFIED:20250204T050125Z
UID:5869-1740211200-1740243600@srilankaramaya.org
SUMMARY:February Daham Sithuvily
DESCRIPTION:February Daham Sithuvily\nනවම් දහම් සිතුවිලි
URL:https://srilankaramaya.org/event/february-daham-sithuvily/
CATEGORIES:Dharma,Regular
ATTACH;FMTTYPE=image/jpeg:https://srilankaramaya.org/wp-content/uploads/2024/07/20240629-Sthupa-scaled.jpg
END:VEVENT
END:VCALENDAR