BEGIN:VCALENDAR
VERSION:2.0
PRODID:-//Srilankaramaya - ECPv6.3.4//NONSGML v1.0//EN
CALSCALE:GREGORIAN
METHOD:PUBLISH
X-WR-CALNAME:Srilankaramaya
X-ORIGINAL-URL:https://srilankaramaya.org
X-WR-CALDESC:Events for Srilankaramaya
REFRESH-INTERVAL;VALUE=DURATION:PT1H
X-Robots-Tag:noindex
X-PUBLISHED-TTL:PT1H
BEGIN:VTIMEZONE
TZID:Pacific/Auckland
BEGIN:STANDARD
TZOFFSETFROM:+1300
TZOFFSETTO:+1200
TZNAME:NZST
DTSTART:20250405T140000
END:STANDARD
BEGIN:DAYLIGHT
TZOFFSETFROM:+1200
TZOFFSETTO:+1300
TZNAME:NZDT
DTSTART:20250927T140000
END:DAYLIGHT
END:VTIMEZONE
BEGIN:VEVENT
DTSTART;TZID=Pacific/Auckland:20250302T080000
DTEND;TZID=Pacific/Auckland:20250302T170000
DTSTAMP:20260423T213357
CREATED:20250204T050312Z
LAST-MODIFIED:20250204T050312Z
UID:5871-1740902400-1740934800@srilankaramaya.org
SUMMARY:March Meditation Training Program
DESCRIPTION:March Meditation Training Program\nමැදින් භාවනා පුහුණු වැඩසටහන
URL:https://srilankaramaya.org/event/march-meditation-training-program/
CATEGORIES:Meditation Events,Regular
ATTACH;FMTTYPE=image/jpeg:https://srilankaramaya.org/wp-content/uploads/2024/10/meditation-vp.jpg
END:VEVENT
BEGIN:VEVENT
DTSTART;TZID=Pacific/Auckland:20250309T080000
DTEND;TZID=Pacific/Auckland:20250309T170000
DTSTAMP:20260423T213357
CREATED:20250204T050714Z
LAST-MODIFIED:20250204T050714Z
UID:5873-1741507200-1741539600@srilankaramaya.org
SUMMARY:Kiripindu pooja
DESCRIPTION:Kiripindu pooja\nගැබිනි මාතාවන් සඳහා කිරිපිඞු පූජාව
URL:https://srilankaramaya.org/event/kiripindu-pooja-2/
CATEGORIES:Pooja Event,Regular
ATTACH;FMTTYPE=image/jpeg:https://srilankaramaya.org/wp-content/uploads/2024/01/mother-and-baby.jpg
END:VEVENT
BEGIN:VEVENT
DTSTART;TZID=Pacific/Auckland:20250316T080000
DTEND;TZID=Pacific/Auckland:20250316T170000
DTSTAMP:20260423T213357
CREATED:20250204T050912Z
LAST-MODIFIED:20250204T050912Z
UID:5875-1742112000-1742144400@srilankaramaya.org
SUMMARY:March Sil Program
DESCRIPTION:March Sil Program\nමැදින් මාසික සීල භාවනා වැඩ සටහන\n 
URL:https://srilankaramaya.org/event/march-sil-program/
CATEGORIES:Regular,Sil Event
ATTACH;FMTTYPE=image/jpeg:https://srilankaramaya.org/wp-content/uploads/2024/10/monthly-sil-vp.jpg
END:VEVENT
BEGIN:VEVENT
DTSTART;TZID=Pacific/Auckland:20250322T080000
DTEND;TZID=Pacific/Auckland:20250322T170000
DTSTAMP:20260423T213357
CREATED:20250204T051316Z
LAST-MODIFIED:20250204T051316Z
UID:5879-1742630400-1742662800@srilankaramaya.org
SUMMARY:March Daham Sithuvily
DESCRIPTION:March Daham Sithuvily\nමැදින් දහම් සිතුවිලි
URL:https://srilankaramaya.org/event/march-daham-sithuvily/
CATEGORIES:Dharma,Regular
ATTACH;FMTTYPE=image/jpeg:https://srilankaramaya.org/wp-content/uploads/2024/07/20240629-Sthupa-scaled.jpg
END:VEVENT
BEGIN:VEVENT
DTSTART;TZID=Pacific/Auckland:20250322T080000
DTEND;TZID=Pacific/Auckland:20250323T170000
DTSTAMP:20260423T213357
CREATED:20250204T051131Z
LAST-MODIFIED:20250204T051131Z
UID:5877-1742630400-1742749200@srilankaramaya.org
SUMMARY:March Monthly Meditation Program
DESCRIPTION:March Monthly Meditation Program\nමැදින් මාසික භාවනා වැඩසටහන
URL:https://srilankaramaya.org/event/march-monthly-meditation-program/
CATEGORIES:Meditation Events,Regular
ATTACH;FMTTYPE=image/jpeg:https://srilankaramaya.org/wp-content/uploads/2024/01/Jinalankara-himi-Meditation-program-gen.jpg
END:VEVENT
END:VCALENDAR